BEGIN:VCALENDAR
VERSION:2.0
PRODID:-//Archbishop Holgate Hospital - ECPv6.15.20//NONSGML v1.0//EN
CALSCALE:GREGORIAN
METHOD:PUBLISH
X-ORIGINAL-URL:https://archbishopholgatehospital.org
X-WR-CALDESC:Events for Archbishop Holgate Hospital
REFRESH-INTERVAL;VALUE=DURATION:PT1H
X-Robots-Tag:noindex
X-PUBLISHED-TTL:PT1H
BEGIN:VTIMEZONE
TZID:UTC
BEGIN:STANDARD
TZOFFSETFROM:+0000
TZOFFSETTO:+0000
TZNAME:UTC
DTSTART:20240101T000000
END:STANDARD
END:VTIMEZONE
BEGIN:VEVENT
DTSTART;VALUE=DATE:20251115
DTEND;VALUE=DATE:20251116
DTSTAMP:20260419T222950
CREATED:20250924T143146Z
LAST-MODIFIED:20250924T135715Z
UID:1091638-1763164800-1763251199@archbishopholgatehospital.org
SUMMARY:Archbishop of York Robert Holgate 1555
DESCRIPTION:Death of the Archbishop of York Robert Holgate 1555. Today marks the 470th Anniversary of the death of Robert Holgate\, Archbishop of York and the community will come together for a mass of thanksgiving. This year our preacher will be the Right Reverend Philip North\, Bishop of Blackburn\, a Society bishop and regular contributor to Radio 4’s “Thought for the day”.
URL:https://archbishopholgatehospital.org/event/archbishop-of-york-robert-holgate-1555/
CATEGORIES:Mass
END:VEVENT
END:VCALENDAR